BEGIN:VCALENDAR
VERSION:2.0
PRODID:-//St. John&#039;s - ECPv6.15.17.1//NONSGML v1.0//EN
CALSCALE:GREGORIAN
METHOD:PUBLISH
X-WR-CALNAME:St. John&#039;s
X-ORIGINAL-URL:https://www.stjohnsliving.org
X-WR-CALDESC:Events for St. John&#039;s
REFRESH-INTERVAL;VALUE=DURATION:PT1H
X-Robots-Tag:noindex
X-PUBLISHED-TTL:PT1H
BEGIN:VTIMEZONE
TZID:America/New_York
BEGIN:DAYLIGHT
TZOFFSETFROM:-0500
TZOFFSETTO:-0400
TZNAME:EDT
DTSTART:20250309T070000
END:DAYLIGHT
BEGIN:STANDARD
TZOFFSETFROM:-0400
TZOFFSETTO:-0500
TZNAME:EST
DTSTART:20251102T060000
END:STANDARD
BEGIN:DAYLIGHT
TZOFFSETFROM:-0500
TZOFFSETTO:-0400
TZNAME:EDT
DTSTART:20260308T070000
END:DAYLIGHT
BEGIN:STANDARD
TZOFFSETFROM:-0400
TZOFFSETTO:-0500
TZNAME:EST
DTSTART:20261101T060000
END:STANDARD
BEGIN:DAYLIGHT
TZOFFSETFROM:-0500
TZOFFSETTO:-0400
TZNAME:EDT
DTSTART:20270314T070000
END:DAYLIGHT
BEGIN:STANDARD
TZOFFSETFROM:-0400
TZOFFSETTO:-0500
TZNAME:EST
DTSTART:20271107T060000
END:STANDARD
BEGIN:DAYLIGHT
TZOFFSETFROM:-0500
TZOFFSETTO:-0400
TZNAME:EDT
DTSTART:20280312T070000
END:DAYLIGHT
BEGIN:STANDARD
TZOFFSETFROM:-0400
TZOFFSETTO:-0500
TZNAME:EST
DTSTART:20281105T060000
END:STANDARD
END:VTIMEZONE
BEGIN:VEVENT
DTSTART;TZID=America/New_York:20260825T173000
DTEND;TZID=America/New_York:20260825T183000
DTSTAMP:20260419T141659
CREATED:20251229T150520Z
LAST-MODIFIED:20251229T150521Z
UID:10002084-1787679000-1787682600@www.stjohnsliving.org
SUMMARY:Crafts and Conversations
DESCRIPTION:Crafts with Christy from St. John’s Meadows Social Recreation Team.
URL:https://www.stjohnsliving.org/event/crafts-and-conversations/2026-08-25/
LOCATION:Briarwood Activity Room
CATEGORIES:Special Events,St. John's Meadows
END:VEVENT
BEGIN:VEVENT
DTSTART;TZID=America/New_York:20260901T173000
DTEND;TZID=America/New_York:20260901T183000
DTSTAMP:20260419T141659
CREATED:20251229T150520Z
LAST-MODIFIED:20251229T150521Z
UID:10002085-1788283800-1788287400@www.stjohnsliving.org
SUMMARY:Crafts and Conversations
DESCRIPTION:Crafts with Christy from St. John’s Meadows Social Recreation Team.
URL:https://www.stjohnsliving.org/event/crafts-and-conversations/2026-09-01/
LOCATION:Briarwood Activity Room
CATEGORIES:Special Events,St. John's Meadows
END:VEVENT
BEGIN:VEVENT
DTSTART;TZID=America/New_York:20260908T173000
DTEND;TZID=America/New_York:20260908T183000
DTSTAMP:20260419T141659
CREATED:20251229T150520Z
LAST-MODIFIED:20251229T150521Z
UID:10002086-1788888600-1788892200@www.stjohnsliving.org
SUMMARY:Crafts and Conversations
DESCRIPTION:Crafts with Christy from St. John’s Meadows Social Recreation Team.
URL:https://www.stjohnsliving.org/event/crafts-and-conversations/2026-09-08/
LOCATION:Briarwood Activity Room
CATEGORIES:Special Events,St. John's Meadows
END:VEVENT
BEGIN:VEVENT
DTSTART;TZID=America/New_York:20260915T173000
DTEND;TZID=America/New_York:20260915T183000
DTSTAMP:20260419T141659
CREATED:20251229T150520Z
LAST-MODIFIED:20251229T150521Z
UID:10002087-1789493400-1789497000@www.stjohnsliving.org
SUMMARY:Crafts and Conversations
DESCRIPTION:Crafts with Christy from St. John’s Meadows Social Recreation Team.
URL:https://www.stjohnsliving.org/event/crafts-and-conversations/2026-09-15/
LOCATION:Briarwood Activity Room
CATEGORIES:Special Events,St. John's Meadows
END:VEVENT
BEGIN:VEVENT
DTSTART;TZID=America/New_York:20260922T173000
DTEND;TZID=America/New_York:20260922T183000
DTSTAMP:20260419T141659
CREATED:20251229T150520Z
LAST-MODIFIED:20251229T150521Z
UID:10002088-1790098200-1790101800@www.stjohnsliving.org
SUMMARY:Crafts and Conversations
DESCRIPTION:Crafts with Christy from St. John’s Meadows Social Recreation Team.
URL:https://www.stjohnsliving.org/event/crafts-and-conversations/2026-09-22/
LOCATION:Briarwood Activity Room
CATEGORIES:Special Events,St. John's Meadows
END:VEVENT
BEGIN:VEVENT
DTSTART;TZID=America/New_York:20260929T173000
DTEND;TZID=America/New_York:20260929T183000
DTSTAMP:20260419T141659
CREATED:20251229T150520Z
LAST-MODIFIED:20251229T150521Z
UID:10002089-1790703000-1790706600@www.stjohnsliving.org
SUMMARY:Crafts and Conversations
DESCRIPTION:Crafts with Christy from St. John’s Meadows Social Recreation Team.
URL:https://www.stjohnsliving.org/event/crafts-and-conversations/2026-09-29/
LOCATION:Briarwood Activity Room
CATEGORIES:Special Events,St. John's Meadows
END:VEVENT
BEGIN:VEVENT
DTSTART;TZID=America/New_York:20261006T173000
DTEND;TZID=America/New_York:20261006T183000
DTSTAMP:20260419T141659
CREATED:20251229T150520Z
LAST-MODIFIED:20251229T150521Z
UID:10002090-1791307800-1791311400@www.stjohnsliving.org
SUMMARY:Crafts and Conversations
DESCRIPTION:Crafts with Christy from St. John’s Meadows Social Recreation Team.
URL:https://www.stjohnsliving.org/event/crafts-and-conversations/2026-10-06/
LOCATION:Briarwood Activity Room
CATEGORIES:Special Events,St. John's Meadows
END:VEVENT
BEGIN:VEVENT
DTSTART;TZID=America/New_York:20261013T173000
DTEND;TZID=America/New_York:20261013T183000
DTSTAMP:20260419T141659
CREATED:20251229T150520Z
LAST-MODIFIED:20251229T150521Z
UID:10002091-1791912600-1791916200@www.stjohnsliving.org
SUMMARY:Crafts and Conversations
DESCRIPTION:Crafts with Christy from St. John’s Meadows Social Recreation Team.
URL:https://www.stjohnsliving.org/event/crafts-and-conversations/2026-10-13/
LOCATION:Briarwood Activity Room
CATEGORIES:Special Events,St. John's Meadows
END:VEVENT
BEGIN:VEVENT
DTSTART;TZID=America/New_York:20261020T173000
DTEND;TZID=America/New_York:20261020T183000
DTSTAMP:20260419T141659
CREATED:20251229T150520Z
LAST-MODIFIED:20251229T150521Z
UID:10002092-1792517400-1792521000@www.stjohnsliving.org
SUMMARY:Crafts and Conversations
DESCRIPTION:Crafts with Christy from St. John’s Meadows Social Recreation Team.
URL:https://www.stjohnsliving.org/event/crafts-and-conversations/2026-10-20/
LOCATION:Briarwood Activity Room
CATEGORIES:Special Events,St. John's Meadows
END:VEVENT
BEGIN:VEVENT
DTSTART;TZID=America/New_York:20261027T173000
DTEND;TZID=America/New_York:20261027T183000
DTSTAMP:20260419T141659
CREATED:20251229T150520Z
LAST-MODIFIED:20251229T150521Z
UID:10002093-1793122200-1793125800@www.stjohnsliving.org
SUMMARY:Crafts and Conversations
DESCRIPTION:Crafts with Christy from St. John’s Meadows Social Recreation Team.
URL:https://www.stjohnsliving.org/event/crafts-and-conversations/2026-10-27/
LOCATION:Briarwood Activity Room
CATEGORIES:Special Events,St. John's Meadows
END:VEVENT
BEGIN:VEVENT
DTSTART;TZID=America/New_York:20261103T173000
DTEND;TZID=America/New_York:20261103T183000
DTSTAMP:20260419T141659
CREATED:20251229T150520Z
LAST-MODIFIED:20251229T150521Z
UID:10002094-1793727000-1793730600@www.stjohnsliving.org
SUMMARY:Crafts and Conversations
DESCRIPTION:Crafts with Christy from St. John’s Meadows Social Recreation Team.
URL:https://www.stjohnsliving.org/event/crafts-and-conversations/2026-11-03/
LOCATION:Briarwood Activity Room
CATEGORIES:Special Events,St. John's Meadows
END:VEVENT
BEGIN:VEVENT
DTSTART;TZID=America/New_York:20261110T173000
DTEND;TZID=America/New_York:20261110T183000
DTSTAMP:20260419T141659
CREATED:20251229T150520Z
LAST-MODIFIED:20251229T150521Z
UID:10002095-1794331800-1794335400@www.stjohnsliving.org
SUMMARY:Crafts and Conversations
DESCRIPTION:Crafts with Christy from St. John’s Meadows Social Recreation Team.
URL:https://www.stjohnsliving.org/event/crafts-and-conversations/2026-11-10/
LOCATION:Briarwood Activity Room
CATEGORIES:Special Events,St. John's Meadows
END:VEVENT
BEGIN:VEVENT
DTSTART;TZID=America/New_York:20261117T173000
DTEND;TZID=America/New_York:20261117T183000
DTSTAMP:20260419T141659
CREATED:20251229T150520Z
LAST-MODIFIED:20251229T150521Z
UID:10002096-1794936600-1794940200@www.stjohnsliving.org
SUMMARY:Crafts and Conversations
DESCRIPTION:Crafts with Christy from St. John’s Meadows Social Recreation Team.
URL:https://www.stjohnsliving.org/event/crafts-and-conversations/2026-11-17/
LOCATION:Briarwood Activity Room
CATEGORIES:Special Events,St. John's Meadows
END:VEVENT
BEGIN:VEVENT
DTSTART;TZID=America/New_York:20261124T173000
DTEND;TZID=America/New_York:20261124T183000
DTSTAMP:20260419T141659
CREATED:20251229T150520Z
LAST-MODIFIED:20251229T150521Z
UID:10002097-1795541400-1795545000@www.stjohnsliving.org
SUMMARY:Crafts and Conversations
DESCRIPTION:Crafts with Christy from St. John’s Meadows Social Recreation Team.
URL:https://www.stjohnsliving.org/event/crafts-and-conversations/2026-11-24/
LOCATION:Briarwood Activity Room
CATEGORIES:Special Events,St. John's Meadows
END:VEVENT
BEGIN:VEVENT
DTSTART;TZID=America/New_York:20261201T173000
DTEND;TZID=America/New_York:20261201T183000
DTSTAMP:20260419T141659
CREATED:20251229T150520Z
LAST-MODIFIED:20251229T150521Z
UID:10002098-1796146200-1796149800@www.stjohnsliving.org
SUMMARY:Crafts and Conversations
DESCRIPTION:Crafts with Christy from St. John’s Meadows Social Recreation Team.
URL:https://www.stjohnsliving.org/event/crafts-and-conversations/2026-12-01/
LOCATION:Briarwood Activity Room
CATEGORIES:Special Events,St. John's Meadows
END:VEVENT
BEGIN:VEVENT
DTSTART;TZID=America/New_York:20261208T173000
DTEND;TZID=America/New_York:20261208T183000
DTSTAMP:20260419T141659
CREATED:20251229T150520Z
LAST-MODIFIED:20251229T150521Z
UID:10002099-1796751000-1796754600@www.stjohnsliving.org
SUMMARY:Crafts and Conversations
DESCRIPTION:Crafts with Christy from St. John’s Meadows Social Recreation Team.
URL:https://www.stjohnsliving.org/event/crafts-and-conversations/2026-12-08/
LOCATION:Briarwood Activity Room
CATEGORIES:Special Events,St. John's Meadows
END:VEVENT
BEGIN:VEVENT
DTSTART;TZID=America/New_York:20261215T173000
DTEND;TZID=America/New_York:20261215T183000
DTSTAMP:20260419T141659
CREATED:20251229T150520Z
LAST-MODIFIED:20251229T150521Z
UID:10002100-1797355800-1797359400@www.stjohnsliving.org
SUMMARY:Crafts and Conversations
DESCRIPTION:Crafts with Christy from St. John’s Meadows Social Recreation Team.
URL:https://www.stjohnsliving.org/event/crafts-and-conversations/2026-12-15/
LOCATION:Briarwood Activity Room
CATEGORIES:Special Events,St. John's Meadows
END:VEVENT
BEGIN:VEVENT
DTSTART;TZID=America/New_York:20261222T173000
DTEND;TZID=America/New_York:20261222T183000
DTSTAMP:20260419T141659
CREATED:20251229T150520Z
LAST-MODIFIED:20251229T150521Z
UID:10002101-1797960600-1797964200@www.stjohnsliving.org
SUMMARY:Crafts and Conversations
DESCRIPTION:Crafts with Christy from St. John’s Meadows Social Recreation Team.
URL:https://www.stjohnsliving.org/event/crafts-and-conversations/2026-12-22/
LOCATION:Briarwood Activity Room
CATEGORIES:Special Events,St. John's Meadows
END:VEVENT
BEGIN:VEVENT
DTSTART;TZID=America/New_York:20261229T173000
DTEND;TZID=America/New_York:20261229T183000
DTSTAMP:20260419T141659
CREATED:20251229T150520Z
LAST-MODIFIED:20251229T150521Z
UID:10002102-1798565400-1798569000@www.stjohnsliving.org
SUMMARY:Crafts and Conversations
DESCRIPTION:Crafts with Christy from St. John’s Meadows Social Recreation Team.
URL:https://www.stjohnsliving.org/event/crafts-and-conversations/2026-12-29/
LOCATION:Briarwood Activity Room
CATEGORIES:Special Events,St. John's Meadows
END:VEVENT
BEGIN:VEVENT
DTSTART;TZID=America/New_York:20270105T173000
DTEND;TZID=America/New_York:20270105T183000
DTSTAMP:20260419T141659
CREATED:20251229T150520Z
LAST-MODIFIED:20251229T150521Z
UID:10002103-1799170200-1799173800@www.stjohnsliving.org
SUMMARY:Crafts and Conversations
DESCRIPTION:Crafts with Christy from St. John’s Meadows Social Recreation Team.
URL:https://www.stjohnsliving.org/event/crafts-and-conversations/2027-01-05/
LOCATION:Briarwood Activity Room
CATEGORIES:Special Events,St. John's Meadows
END:VEVENT
BEGIN:VEVENT
DTSTART;TZID=America/New_York:20270112T173000
DTEND;TZID=America/New_York:20270112T183000
DTSTAMP:20260419T141659
CREATED:20251229T150520Z
LAST-MODIFIED:20251229T150521Z
UID:10002104-1799775000-1799778600@www.stjohnsliving.org
SUMMARY:Crafts and Conversations
DESCRIPTION:Crafts with Christy from St. John’s Meadows Social Recreation Team.
URL:https://www.stjohnsliving.org/event/crafts-and-conversations/2027-01-12/
LOCATION:Briarwood Activity Room
CATEGORIES:Special Events,St. John's Meadows
END:VEVENT
BEGIN:VEVENT
DTSTART;TZID=America/New_York:20270119T173000
DTEND;TZID=America/New_York:20270119T183000
DTSTAMP:20260419T141659
CREATED:20251229T150520Z
LAST-MODIFIED:20251229T150521Z
UID:10002105-1800379800-1800383400@www.stjohnsliving.org
SUMMARY:Crafts and Conversations
DESCRIPTION:Crafts with Christy from St. John’s Meadows Social Recreation Team.
URL:https://www.stjohnsliving.org/event/crafts-and-conversations/2027-01-19/
LOCATION:Briarwood Activity Room
CATEGORIES:Special Events,St. John's Meadows
END:VEVENT
BEGIN:VEVENT
DTSTART;TZID=America/New_York:20270126T173000
DTEND;TZID=America/New_York:20270126T183000
DTSTAMP:20260419T141659
CREATED:20251229T150520Z
LAST-MODIFIED:20251229T150521Z
UID:10002106-1800984600-1800988200@www.stjohnsliving.org
SUMMARY:Crafts and Conversations
DESCRIPTION:Crafts with Christy from St. John’s Meadows Social Recreation Team.
URL:https://www.stjohnsliving.org/event/crafts-and-conversations/2027-01-26/
LOCATION:Briarwood Activity Room
CATEGORIES:Special Events,St. John's Meadows
END:VEVENT
BEGIN:VEVENT
DTSTART;TZID=America/New_York:20270202T173000
DTEND;TZID=America/New_York:20270202T183000
DTSTAMP:20260419T141659
CREATED:20251229T150520Z
LAST-MODIFIED:20251229T150521Z
UID:10002107-1801589400-1801593000@www.stjohnsliving.org
SUMMARY:Crafts and Conversations
DESCRIPTION:Crafts with Christy from St. John’s Meadows Social Recreation Team.
URL:https://www.stjohnsliving.org/event/crafts-and-conversations/2027-02-02/
LOCATION:Briarwood Activity Room
CATEGORIES:Special Events,St. John's Meadows
END:VEVENT
BEGIN:VEVENT
DTSTART;TZID=America/New_York:20270209T173000
DTEND;TZID=America/New_York:20270209T183000
DTSTAMP:20260419T141659
CREATED:20251229T150520Z
LAST-MODIFIED:20251229T150521Z
UID:10002108-1802194200-1802197800@www.stjohnsliving.org
SUMMARY:Crafts and Conversations
DESCRIPTION:Crafts with Christy from St. John’s Meadows Social Recreation Team.
URL:https://www.stjohnsliving.org/event/crafts-and-conversations/2027-02-09/
LOCATION:Briarwood Activity Room
CATEGORIES:Special Events,St. John's Meadows
END:VEVENT
BEGIN:VEVENT
DTSTART;TZID=America/New_York:20270216T173000
DTEND;TZID=America/New_York:20270216T183000
DTSTAMP:20260419T141659
CREATED:20251229T150520Z
LAST-MODIFIED:20251229T150521Z
UID:10002109-1802799000-1802802600@www.stjohnsliving.org
SUMMARY:Crafts and Conversations
DESCRIPTION:Crafts with Christy from St. John’s Meadows Social Recreation Team.
URL:https://www.stjohnsliving.org/event/crafts-and-conversations/2027-02-16/
LOCATION:Briarwood Activity Room
CATEGORIES:Special Events,St. John's Meadows
END:VEVENT
BEGIN:VEVENT
DTSTART;TZID=America/New_York:20270223T173000
DTEND;TZID=America/New_York:20270223T183000
DTSTAMP:20260419T141659
CREATED:20251229T150520Z
LAST-MODIFIED:20251229T150521Z
UID:10002110-1803403800-1803407400@www.stjohnsliving.org
SUMMARY:Crafts and Conversations
DESCRIPTION:Crafts with Christy from St. John’s Meadows Social Recreation Team.
URL:https://www.stjohnsliving.org/event/crafts-and-conversations/2027-02-23/
LOCATION:Briarwood Activity Room
CATEGORIES:Special Events,St. John's Meadows
END:VEVENT
BEGIN:VEVENT
DTSTART;TZID=America/New_York:20270302T173000
DTEND;TZID=America/New_York:20270302T183000
DTSTAMP:20260419T141659
CREATED:20251229T150520Z
LAST-MODIFIED:20251229T150521Z
UID:10002111-1804008600-1804012200@www.stjohnsliving.org
SUMMARY:Crafts and Conversations
DESCRIPTION:Crafts with Christy from St. John’s Meadows Social Recreation Team.
URL:https://www.stjohnsliving.org/event/crafts-and-conversations/2027-03-02/
LOCATION:Briarwood Activity Room
CATEGORIES:Special Events,St. John's Meadows
END:VEVENT
BEGIN:VEVENT
DTSTART;TZID=America/New_York:20270309T173000
DTEND;TZID=America/New_York:20270309T183000
DTSTAMP:20260419T141659
CREATED:20251229T150520Z
LAST-MODIFIED:20251229T150521Z
UID:10002112-1804613400-1804617000@www.stjohnsliving.org
SUMMARY:Crafts and Conversations
DESCRIPTION:Crafts with Christy from St. John’s Meadows Social Recreation Team.
URL:https://www.stjohnsliving.org/event/crafts-and-conversations/2027-03-09/
LOCATION:Briarwood Activity Room
CATEGORIES:Special Events,St. John's Meadows
END:VEVENT
BEGIN:VEVENT
DTSTART;TZID=America/New_York:20270316T173000
DTEND;TZID=America/New_York:20270316T183000
DTSTAMP:20260419T141659
CREATED:20251229T150520Z
LAST-MODIFIED:20251229T150521Z
UID:10002113-1805218200-1805221800@www.stjohnsliving.org
SUMMARY:Crafts and Conversations
DESCRIPTION:Crafts with Christy from St. John’s Meadows Social Recreation Team.
URL:https://www.stjohnsliving.org/event/crafts-and-conversations/2027-03-16/
LOCATION:Briarwood Activity Room
CATEGORIES:Special Events,St. John's Meadows
END:VEVENT
END:VCALENDAR